BEGIN:VCALENDAR
VERSION:2.0
PRODID:icalendar-ruby
CALSCALE:GREGORIAN
METHOD:PUBLISH
BEGIN:VEVENT
DTSTAMP:20260425T131110Z
UID:103-3160537@afcoc.org
DTSTART:20260802T150000Z
DTEND:20260802T160000Z
CLASS:PUBLIC
CREATED:20260425T053825
DESCRIPTION:Sunday morning service in the main auditorium. Worship consists
  of singing praises\, scripture reading\, congregational communion\, and a
  sermon message. Service typically draws to an end around 11:15am.
LAST-MODIFIED:20260425T053825
LOCATION:
SUMMARY:Sunday Service
URL;VALUE=URI:https://www.afcoc.org/events/sunday-service/2026-08-02
END:VEVENT
END:VCALENDAR
